BEGIN:VCALENDAR
VERSION:2.0
PRODID:-//Fintech Poland - ECPv6.3.4//NONSGML v1.0//EN
CALSCALE:GREGORIAN
METHOD:PUBLISH
X-WR-CALNAME:Fintech Poland
X-ORIGINAL-URL:https://fintechpoland.com
X-WR-CALDESC:Events for Fintech Poland
REFRESH-INTERVAL;VALUE=DURATION:PT1H
X-Robots-Tag:noindex
X-PUBLISHED-TTL:PT1H
BEGIN:VTIMEZONE
TZID:Europe/Warsaw
BEGIN:DAYLIGHT
TZOFFSETFROM:+0100
TZOFFSETTO:+0200
TZNAME:CEST
DTSTART:20250330T010000
END:DAYLIGHT
BEGIN:STANDARD
TZOFFSETFROM:+0200
TZOFFSETTO:+0100
TZNAME:CET
DTSTART:20251026T010000
END:STANDARD
END:VTIMEZONE
BEGIN:VEVENT
DTSTART;VALUE=DATE:20251001
DTEND;VALUE=DATE:20251004
DTSTAMP:20260422T111241
CREATED:20250825T112027Z
LAST-MODIFIED:20250825T112027Z
UID:12547-1759276800-1759535999@fintechpoland.com
SUMMARY:Amsterdam Fintech Event\, 1 Oct - 3 Oct\, WTC & TNW Amsterdam
DESCRIPTION:The Amsterdam Fintech Event (AFE) is a premier three-day platform for fintechs and fintech enthusiasts in Amsterdam. With its unique program\, this is an event you absolutely cannot miss. AFE is an initiative of the Holland Fintech Association and Cognito\, aimed at bringing together the fintech community in Amsterdam. \nAFE is an annually recurring event that offers the sector deep insights into the world of fintech. Over the course of three days\, sessions are held at World Trade Center (WTC) and The Next Web (TNW)\, Amsterdam. This approach allows AFE attendees to explore the city and visit some of the most influencial locations in fintech and finance in the Netherlands. \nWith a diverse and inspiring program\, AFE provides a platform for knowledge exchange\, networking\, and exploring the latest trends and innovations in the fintech sector. Whether you are an established player or an emerging startup\, AFE offers valuable opportunities to learn\, grow\, and expand your network. \nJoin the fintech community in Amsterdam and experience firsthand why the Amsterdam Fintech Event is a must-attend event for anyone involved in the future of financial technology. \nTo obtain 10% discount from FintechPoland please register  HERE
URL:https://fintechpoland.com/en/single-event/amsterdam-fintech-event-1-oct-3-oct-wtc-tnw-amsterdam/
ATTACH;FMTTYPE=image/png:https://fintechpoland.com/wp-content/uploads/2025/08/AFE25_LinkedIn_STD-copy.png
END:VEVENT
END:VCALENDAR