BEGIN:VCALENDAR
VERSION:2.0
PRODID:-//Fintech Poland - ECPv6.3.4//NONSGML v1.0//EN
CALSCALE:GREGORIAN
METHOD:PUBLISH
X-WR-CALNAME:Fintech Poland
X-ORIGINAL-URL:https://fintechpoland.com
X-WR-CALDESC:Events for Fintech Poland
REFRESH-INTERVAL;VALUE=DURATION:PT1H
X-Robots-Tag:noindex
X-PUBLISHED-TTL:PT1H
BEGIN:VTIMEZONE
TZID:Europe/Warsaw
BEGIN:DAYLIGHT
TZOFFSETFROM:+0100
TZOFFSETTO:+0200
TZNAME:CEST
DTSTART:20250330T010000
END:DAYLIGHT
BEGIN:STANDARD
TZOFFSETFROM:+0200
TZOFFSETTO:+0100
TZNAME:CET
DTSTART:20251026T010000
END:STANDARD
END:VTIMEZONE
BEGIN:VEVENT
DTSTART;TZID=Europe/Warsaw:20251015T093000
DTEND;TZID=Europe/Warsaw:20251015T123000
DTSTAMP:20260420T110825
CREATED:20250924T071537Z
LAST-MODIFIED:20251008T135947Z
UID:12989-1760520600-1760531400@fintechpoland.com
SUMMARY:Business Breakfast- Payments in Motion: Innovation and Resilience
DESCRIPTION:We are delighted to invite you to a Business Breakfast hosted by Fintech Poland and Worldline\, dedicated to Innovation and Resilience for fintechs. \nDate & Time: 15 October 2025 (Wednesday) | 9:00 – 12:00 \n9:00–9:15 | Welcoming Coffee \n9:15–10:00 | Presentations – Insights into key trends shaping the European and Polish financial ecosystem: \n\n“Payment Trends”: Ernest Puspok\, Business Development Director CEE\, Worldline Financial Services\n“Instant Payments – Innovative Use Cases”: Pierre Calvet – Segment Marketing Manager\, Worldline Financial Services\n “From vision to reality in European payments – WERO”: Piotr Jan Pietrzak\, New Markets Lead\, EPI\n\n10:00–10:45 | Panel Discussion: “DORA regulatory requirements and their implementation in Polish fintechs” \n\n\n\nModerator:  Magdalena Bodzioch – Counsel\, Rymarz Zdort Maruta\nPanelists:\n\nAntonio Soares\, Head of Business Development\, Worldline Financial Services\nDr Zbigniew Długosz\, Partner ftl\, Attorney at Law\n Dr Jan Wittlin\, Akademia Leona Koźmińskiego\n\n\n\n\n\n 10:45–12:00 | Networking \n Venue: Fintech Poland Office | ul. Koszykowa 8\, Warsaw \nTheme: Payments in Motion: Innovation and Resilience for Polish Banks \nEvent Highlights will include: \n\nPanel discussion on “DORA regulatory requirements and their implementation in Polish banks”\nInsights into key trends shaping the European financial ecosystem.\nNetworking opportunities with peers and experts in a focused\, collaborative setting.
URL:https://fintechpoland.com/en/single-event/business-breakfast-payments-in-motion-innovation-and-resilience/
LOCATION:FinTech Poland Office\, Koszykowa 8\, Warsaw
ATTACH;FMTTYPE=image/jpeg:https://fintechpoland.com/wp-content/uploads/2025/09/Business-Breakfast.jpg
END:VEVENT
END:VCALENDAR