BEGIN:VCALENDAR
VERSION:2.0
PRODID:-//Fintech Poland - ECPv6.3.4//NONSGML v1.0//EN
CALSCALE:GREGORIAN
METHOD:PUBLISH
X-WR-CALNAME:Fintech Poland
X-ORIGINAL-URL:https://fintechpoland.com
X-WR-CALDESC:Events for Fintech Poland
REFRESH-INTERVAL;VALUE=DURATION:PT1H
X-Robots-Tag:noindex
X-PUBLISHED-TTL:PT1H
BEGIN:VTIMEZONE
TZID:Europe/Warsaw
BEGIN:DAYLIGHT
TZOFFSETFROM:+0100
TZOFFSETTO:+0200
TZNAME:CEST
DTSTART:20250330T010000
END:DAYLIGHT
BEGIN:STANDARD
TZOFFSETFROM:+0200
TZOFFSETTO:+0100
TZNAME:CET
DTSTART:20251026T010000
END:STANDARD
END:VTIMEZONE
BEGIN:VEVENT
DTSTART;TZID=Europe/Warsaw:20251125T090000
DTEND;TZID=Europe/Warsaw:20251125T120000
DTSTAMP:20260421T153544
CREATED:20251001T083756Z
LAST-MODIFIED:20251118T095536Z
UID:13110-1764061200-1764072000@fintechpoland.com
SUMMARY:From AI hype to real impact: how intelligent workflows deliver measurable results?
DESCRIPTION:About the event \nArtificial Intelligence can write\, code\, and analyze data — but can it work reliably and repeatably? \n  \nDuring this edition of Business Breakfast with Fintech\, we will explore how AI is transforming the way organizations operate — from task automation to full-scale automation of business and IT practices. \nYou’ll discover how Inteca is developing PractIQ\, an AI platform designed to bridge people and technology through intelligent workflows that automate real business outcomes. The discussion will focus on how to move from automating actions to achieving repeatable results — and what this means for the future of digital operations\, innovation\, and efficiency. \nAgenda \n9:00-9:15 | Welcome coffee \n9:15-10:00 | Intelligent Workflows: how to achieve repeatable results with AI – Habte Woldu\, CEO at Inteca \nLearn how PractIQ uses AI agents\, machine learning\, and standardized practices to create intelligent workflows that deliver consistent\, measurable results — helping companies unlock the next stage of AI-driven efficiency. \n10:00-10:15 | Building scalable and secure environments with Red Hat OpenShift\nSpeaker: Marek Martofel\, Cloud Native and Container Platform Lead\, CEE \nDiscover how containerized environments and OpenShift technology empower organizations to deploy and scale AI-driven solutions efficiently and securely. \n10:15-10:45 | Panel discussion: From AI potential to real outcomes — how to make automation work for business and IT \nPanelists: \n\nHabte Woldu\, CEO\, Inteca\nBartosz Krupop\, Delivery Manager\, Inteca\nMarek Martofel\, Cloud Native and Container Platform Lead\, CEE\, Red Hat\nModerator: Izabela Kowalczuk-Pakula\, Partner\, Bird & Bird\n\n10:45–12:00 | Networking \nWho should attend \nC-level executives\, innovation leaders\, CIOs\, CTOs\, and managers looking to leverage AI and intelligent automation to optimize processes\, accelerate innovation\, and improve collaboration between business and IT. \nJoin us for coffee\, insights\, and inspiration on how AI can transform the way your organization works.
URL:https://fintechpoland.com/en/single-event/business-breakfast-with-inteca-i-red-hat/
LOCATION:FinTech Poland Office\, Koszykowa 8\, Warsaw
ATTACH;FMTTYPE=image/jpeg:https://fintechpoland.com/wp-content/uploads/2025/10/Busioness-Breakfast-From-AI-hype-to-real-impact.jpg
END:VEVENT
END:VCALENDAR