BEGIN:VCALENDAR
VERSION:2.0
PRODID:-//Fintech Poland - ECPv6.3.4//NONSGML v1.0//EN
CALSCALE:GREGORIAN
METHOD:PUBLISH
X-WR-CALNAME:Fintech Poland
X-ORIGINAL-URL:https://fintechpoland.com
X-WR-CALDESC:Events for Fintech Poland
REFRESH-INTERVAL;VALUE=DURATION:PT1H
X-Robots-Tag:noindex
X-PUBLISHED-TTL:PT1H
BEGIN:VTIMEZONE
TZID:Europe/Warsaw
BEGIN:DAYLIGHT
TZOFFSETFROM:+0100
TZOFFSETTO:+0200
TZNAME:CEST
DTSTART:20250330T010000
END:DAYLIGHT
BEGIN:STANDARD
TZOFFSETFROM:+0200
TZOFFSETTO:+0100
TZNAME:CET
DTSTART:20251026T010000
END:STANDARD
END:VTIMEZONE
BEGIN:VEVENT
DTSTART;TZID=Europe/Warsaw:20251023T090000
DTEND;TZID=Europe/Warsaw:20251023T120000
DTSTAMP:20260421T085146
CREATED:20250930T120432Z
LAST-MODIFIED:20251021T122703Z
UID:13097-1761210000-1761220800@fintechpoland.com
SUMMARY:Coffee With Fintech | From Idea to Issuer: Unlocking Card Issuing Opportunities to Drive Fintech Growth in Poland and the CEE Region
DESCRIPTION:From Idea to Issuer: Unlocking Card Issuing Opportunities to Drive Fintech Growth in Poland and the CEE Region \nJoin us for Coffee with a Fintech meeting hosted by FinTech Poland and Mastercard\, exploring how Fintechs in Poland and the CEE Region can leverage card issuance to drive business growth and capitalize on new market opportunities. \nWhy attend:\nStep into the evolving world of card issuing where innovation meets opportunity. This event offers a front-row seat to the key market trends shaping the future of card issuing in Poland and across the CEE region. Learn from Global Payments Europe\, a leading fintech issuer\, as they showcase strategic opportunities and present real-life case studies that highlight the tangible impact of card solutions in driving business success. \nThe conversation continues with a dynamic panel discussion featuring experts from Mastercard\, an innovative fintech XTB that has successfully integrated card products into its offering\, exploring new growth avenue. Together\, they’ll unpack how card products can serve as a powerful tool to fuel business expansion\, improve customer engagement\, and successfully scale within an increasingly competitive market. \nWhether you’re looking to launch a card program\, refine your current strategy\, or simply stay ahead of the curve\, this event will equip you with practical insights\, proven examples\, and valuable connections. Plus\, enjoy great coffee and even better conversations with peers and pioneers in the space. \nAgenda: \n09:00–09:15 | Welcome Coffee\n09:15–09:45 | Tapping into the Power of Cards – Jiří Vajgl – Business Development Director\, Global Payments Europe \n09:45–10:15 | Panel Discussion: Cards as a Growth Engine: Enhancing Fintech Offering and Client Experience \nPanellists: \n\nAdam Dubiel – Chief Product & Technology Officer\, XTB\nMichal Prazny – Head of Business Development and Sales\, Global Payments Europe\nKamila Borkowska – Director Business Development\, Mastercard                \n\n10:15–12:00| Networking
URL:https://fintechpoland.com/en/single-event/coffee-with-fintech-unlocking-polands-fintech-potential-trends-and-opportunities-ahead/
LOCATION:FinTech Poland Office\, Koszykowa 8\, Warsaw
ATTACH;FMTTYPE=image/webp:https://fintechpoland.com/wp-content/uploads/2025/09/Kawa-z-FinTech-v4.webp
END:VEVENT
END:VCALENDAR