BEGIN:VCALENDAR
VERSION:2.0
PRODID:-//Fintech Poland - ECPv6.3.4//NONSGML v1.0//EN
CALSCALE:GREGORIAN
METHOD:PUBLISH
X-WR-CALNAME:Fintech Poland
X-ORIGINAL-URL:https://fintechpoland.com
X-WR-CALDESC:Events for Fintech Poland
REFRESH-INTERVAL;VALUE=DURATION:PT1H
X-Robots-Tag:noindex
X-PUBLISHED-TTL:PT1H
BEGIN:VTIMEZONE
TZID:Europe/Warsaw
BEGIN:DAYLIGHT
TZOFFSETFROM:+0100
TZOFFSETTO:+0200
TZNAME:CEST
DTSTART:20250330T010000
END:DAYLIGHT
BEGIN:STANDARD
TZOFFSETFROM:+0200
TZOFFSETTO:+0100
TZNAME:CET
DTSTART:20251026T010000
END:STANDARD
END:VTIMEZONE
BEGIN:VEVENT
DTSTART;TZID=Europe/Warsaw:20250611T090000
DTEND;TZID=Europe/Warsaw:20250611T140000
DTSTAMP:20260422T124058
CREATED:20250416T114509Z
LAST-MODIFIED:20250603T140352Z
UID:11106-1749632400-1749650400@fintechpoland.com
SUMMARY:Fintech Meet-up: Technology\, Data\, and Regulation in One Place
DESCRIPTION:FinTech Poland\, in collaboration with LexisNexis® Risk Solutions\, invites you to a unique event focused on the challenges and solutions in the area of Financial Crime Compliance (AML). This meet-up offers not only a platform for knowledge exchange but also a space for open discussion on how technology and data can support organizations in fighting financial crime and managing regulatory risk. \nEvent Details: \n\nDate: June 11\, 2025\nLocation: Rotunda PKO\, Warsaw\nTime: 9:30 AM – 2:00 PM\n\nOur Panelists:\n\nJustyna Przekopiak\, Head of AML @ PKO BP\nArtur Napora-Rutkowski\, Director of AML Strategy Development @ Santander Bank Polska\nWeronika Chrzanowska-Ziółkowska\, Director of Cards Banking & Fintech Department @ ITCard\nDariusz Piątek\, AML Team Director & Group MLRO @ XTB\nKarol Suchocki\, Team Leader @ BNP Paribas\n\nWhy attend? \nThis event is a great opportunity to deepen your Financial Crime Compliance knowledge and discover tools supporting regulatory risk management. Experts from LexisNexis® Risk Solutions will share practical insights and demonstrate how data and technology can effectively respond to the current challenges in this area. \nParticipation is free of charge\, but registration is required.Spots are limited – register now to secure your place at this exclusive meet-up!
URL:https://fintechpoland.com/en/single-event/fintech-meet-up-technology-data-and-regulation-in-one-place/
LOCATION:Rotunda Banku PKO BP\, Marszałkowska 100/102\, Warszawa\, Poland
ATTACH;FMTTYPE=image/jpeg:https://fintechpoland.com/wp-content/uploads/2025/04/FinTech-meetup_v2-1-scaled.jpg
END:VEVENT
END:VCALENDAR