BEGIN:VCALENDAR
VERSION:2.0
PRODID:-//Fintech Poland - ECPv6.3.4//NONSGML v1.0//EN
CALSCALE:GREGORIAN
METHOD:PUBLISH
X-WR-CALNAME:Fintech Poland
X-ORIGINAL-URL:https://fintechpoland.com
X-WR-CALDESC:Events for Fintech Poland
REFRESH-INTERVAL;VALUE=DURATION:PT1H
X-Robots-Tag:noindex
X-PUBLISHED-TTL:PT1H
BEGIN:VTIMEZONE
TZID:Europe/Warsaw
BEGIN:DAYLIGHT
TZOFFSETFROM:+0100
TZOFFSETTO:+0200
TZNAME:CEST
DTSTART:20250330T010000
END:DAYLIGHT
BEGIN:STANDARD
TZOFFSETFROM:+0200
TZOFFSETTO:+0100
TZNAME:CET
DTSTART:20251026T010000
END:STANDARD
END:VTIMEZONE
BEGIN:VEVENT
DTSTART;VALUE=DATE:20251029
DTEND;VALUE=DATE:20251101
DTSTAMP:20260421T072923
CREATED:20250925T094507Z
LAST-MODIFIED:20250925T094507Z
UID:12997-1761696000-1761955199@fintechpoland.com
SUMMARY:Finweek Bratislava
DESCRIPTION:
URL:https://fintechpoland.com/en/single-event/finweek-bratislava/
ATTACH;FMTTYPE=image/jpeg:https://fintechpoland.com/wp-content/uploads/2025/09/Finweek2025.jpg
END:VEVENT
END:VCALENDAR