BEGIN:VCALENDAR
VERSION:2.0
PRODID:-//Fintech Poland - ECPv6.3.4//NONSGML v1.0//EN
CALSCALE:GREGORIAN
METHOD:PUBLISH
X-WR-CALNAME:Fintech Poland
X-ORIGINAL-URL:https://fintechpoland.com
X-WR-CALDESC:Events for Fintech Poland
REFRESH-INTERVAL;VALUE=DURATION:PT1H
X-Robots-Tag:noindex
X-PUBLISHED-TTL:PT1H
BEGIN:VTIMEZONE
TZID:Europe/Warsaw
BEGIN:DAYLIGHT
TZOFFSETFROM:+0100
TZOFFSETTO:+0200
TZNAME:CEST
DTSTART:20250330T010000
END:DAYLIGHT
BEGIN:STANDARD
TZOFFSETFROM:+0200
TZOFFSETTO:+0100
TZNAME:CET
DTSTART:20251026T010000
END:STANDARD
END:VTIMEZONE
BEGIN:VEVENT
DTSTART;TZID=Europe/Warsaw:20251106T093000
DTEND;TZID=Europe/Warsaw:20251106T110000
DTSTAMP:20260421T105017
CREATED:20251028T104224Z
LAST-MODIFIED:20251028T104224Z
UID:13572-1762421400-1762426800@fintechpoland.com
SUMMARY:Roundtable: Financing  Dual-Use Projects in the SME Sector
DESCRIPTION:
URL:https://fintechpoland.com/en/single-event/roundtable-financing-dual-use-projects-in-the-sme-sector/
ATTACH;FMTTYPE=image/jpeg:https://fintechpoland.com/wp-content/uploads/2025/10/WFW_Dualuse_RT.jpg
END:VEVENT
END:VCALENDAR