BEGIN:VCALENDAR
VERSION:2.0
PRODID:-//Fintech Poland - ECPv6.3.4//NONSGML v1.0//EN
CALSCALE:GREGORIAN
METHOD:PUBLISH
X-WR-CALNAME:Fintech Poland
X-ORIGINAL-URL:https://fintechpoland.com
X-WR-CALDESC:Events for Fintech Poland
REFRESH-INTERVAL;VALUE=DURATION:PT1H
X-Robots-Tag:noindex
X-PUBLISHED-TTL:PT1H
BEGIN:VTIMEZONE
TZID:Europe/Warsaw
BEGIN:DAYLIGHT
TZOFFSETFROM:+0100
TZOFFSETTO:+0200
TZNAME:CEST
DTSTART:20250330T010000
END:DAYLIGHT
BEGIN:STANDARD
TZOFFSETFROM:+0200
TZOFFSETTO:+0100
TZNAME:CET
DTSTART:20251026T010000
END:STANDARD
END:VTIMEZONE
BEGIN:VEVENT
DTSTART;TZID=Europe/Warsaw:20251014T093000
DTEND;TZID=Europe/Warsaw:20251014T123000
DTSTAMP:20260420T100627
CREATED:20250930T115634Z
LAST-MODIFIED:20250930T115634Z
UID:13090-1760434200-1760445000@fintechpoland.com
SUMMARY:Roundtable: Fintech in Poland After the Wave of Regulation: BNPL\, Open Banking & Instant Payments – Who Wins\, Who Loses?
DESCRIPTION:Agenda: \n· 9:30–10:00 | Welcoming Coffee \n· 10:00–11:30 | Roundtable Discussion \n· 11:30–12:30 | Networking \n  \nThe discussion will bring together representatives of fintech’s and banks to exchange insights and assess the impact of recent regulations on the market. Together\, we will explore: \n\nHow will the latest regulatory changes impact the Fintech industry\, and what are the biggest challenges and risks?\nWhat new opportunities can be created: which new services can be delivered by fintech’s and what are the limitations of current services and products. Where should we look for opportunities and where for risks. Will it bring more or less competition.\nHow does BNPL reshape customer behavior? Can it compete with or replace credit cards and personal loans?\nWhat in your opinion will happen with traditional credit cards and personal loans? What will change in the near future?\nWhat does open banking truly deliver\, and what new services and experiences can be offered?
URL:https://fintechpoland.com/en/single-event/roundtable-fintech-in-poland-after-the-wave-of-regulation-bnpl-open-banking-instant-payments-who-wins-who-loses/
LOCATION:Biuro FinTch Poland\, Koszykowa 8\, Warszawa\, 00-564
ATTACH;FMTTYPE=image/png:https://fintechpoland.com/wp-content/uploads/2025/09/Roundtable-Discussion.png
END:VEVENT
END:VCALENDAR