BEGIN:VCALENDAR
VERSION:2.0
PRODID:-//Fintech Poland - ECPv6.3.4//NONSGML v1.0//EN
CALSCALE:GREGORIAN
METHOD:PUBLISH
X-WR-CALNAME:Fintech Poland
X-ORIGINAL-URL:https://fintechpoland.com
X-WR-CALDESC:Events for Fintech Poland
REFRESH-INTERVAL;VALUE=DURATION:PT1H
X-Robots-Tag:noindex
X-PUBLISHED-TTL:PT1H
BEGIN:VTIMEZONE
TZID:Europe/Warsaw
BEGIN:DAYLIGHT
TZOFFSETFROM:+0100
TZOFFSETTO:+0200
TZNAME:CEST
DTSTART:20240331T010000
END:DAYLIGHT
BEGIN:STANDARD
TZOFFSETFROM:+0200
TZOFFSETTO:+0100
TZNAME:CET
DTSTART:20241027T010000
END:STANDARD
END:VTIMEZONE
BEGIN:VEVENT
DTSTART;TZID=Europe/Warsaw:20240618T130000
DTEND;TZID=Europe/Warsaw:20240618T140000
DTSTAMP:20260422T110812
CREATED:20240612T074333Z
LAST-MODIFIED:20240612T074333Z
UID:6458-1718715600-1718719200@fintechpoland.com
SUMMARY:[Webinar] EBIS Project - Innovative Financing for Business Development
DESCRIPTION:We invite you to join a webinar on June 18\, 2024\, to learn about the European Blockchain Services Infrastructure (EBSI) project. During the meeting\, you will learn how to join the initiative and the opportunities it provides. \nAs a partner of the project\, we strongly encourage members of our Ecosystem to join EBSI. The goal of the project is to build a pan-European\, public platform that will enhance financing opportunities for European SMEs and open sources of financing\, especially for innovation and green transformation. \nDiscover the opportunities offered by EBIS. Join us! \nRegistration is required – link in the details section.
URL:https://fintechpoland.com/en/single-event/webinar-ebis-project-innovative-financing-for-business-development/
ATTACH;FMTTYPE=image/png:https://fintechpoland.com/wp-content/uploads/2024/06/2024.06.18-EBIS-Webinar-1.png
END:VEVENT
END:VCALENDAR