BEGIN:VCALENDAR
VERSION:2.0
PRODID:-//Fintech Poland - ECPv6.3.4//NONSGML v1.0//EN
CALSCALE:GREGORIAN
METHOD:PUBLISH
X-WR-CALNAME:Fintech Poland
X-ORIGINAL-URL:https://fintechpoland.com
X-WR-CALDESC:Events for Fintech Poland
REFRESH-INTERVAL;VALUE=DURATION:PT1H
X-Robots-Tag:noindex
X-PUBLISHED-TTL:PT1H
BEGIN:VTIMEZONE
TZID:Europe/Warsaw
BEGIN:DAYLIGHT
TZOFFSETFROM:+0100
TZOFFSETTO:+0200
TZNAME:CEST
DTSTART:20240331T010000
END:DAYLIGHT
BEGIN:STANDARD
TZOFFSETFROM:+0200
TZOFFSETTO:+0100
TZNAME:CET
DTSTART:20241027T010000
END:STANDARD
END:VTIMEZONE
BEGIN:VEVENT
DTSTART;TZID=Europe/Warsaw:20241205T113000
DTEND;TZID=Europe/Warsaw:20241205T140000
DTSTAMP:20260421T095520
CREATED:20241127T101439Z
LAST-MODIFIED:20241127T101439Z
UID:8712-1733398200-1733407200@fintechpoland.com
SUMMARY:Workshop on the Digital Euro Regulatory Packag
DESCRIPTION:We warmly invite members of the Ecosystem to a regulatory workshop on the Digital Euro Regulatory Package\, organized as part of the FinTech Poland Working Group! \n📅 Date: December 5\, 2024\n🕓 Time: 11:30 AM – 2:00 PM\n📍 Location: Warsaw Spire\n➡️ Registration: Email kmultan@futurefinancepoland.com\n🏢 Format: Hybrid \nThis is a unique opportunity to learn more about the impact of the Digital Euro on the Polish financial market and to ask questions to an expert in the field\, Dr. Krzysztof Korus\, partner at DLK Legal\, who will discuss the key aspects of the regulatory package and its implications. \n🔴 Agenda:\n🔹 Current status of work on the Digital Euro package\n🔹 Accessibility of the Digital Euro for Polish residents\n🔹 Technical and functional architecture of the Digital Euro\n🔹 Relationship between the Digital Euro\, competing payment methods\, and crypto-assets\n🔹 Q&A session \nThe workshop will be conducted in a hybrid format. Please confirm your participation by November 29\, specifying your preferred mode of attendance\, via email at kmultan@futurefinancepoland.com. On-site attendance is limited. \nDon’t miss this opportunity! 🔍 Stay up to date with the regulations already shaping the future of the fintech sector in Poland!
URL:https://fintechpoland.com/en/single-event/workshop-on-the-digital-euro-regulatory-packag/
ATTACH;FMTTYPE=image/png:https://fintechpoland.com/wp-content/uploads/2024/11/2024.12.05-DigitalEuro-EN.png
END:VEVENT
END:VCALENDAR