BEGIN:VCALENDAR
VERSION:2.0
PRODID:-//Fintech Poland - ECPv6.3.4//NONSGML v1.0//EN
CALSCALE:GREGORIAN
METHOD:PUBLISH
X-WR-CALNAME:Fintech Poland
X-ORIGINAL-URL:https://fintechpoland.com
X-WR-CALDESC:Events for Fintech Poland
REFRESH-INTERVAL;VALUE=DURATION:PT1H
X-Robots-Tag:noindex
X-PUBLISHED-TTL:PT1H
BEGIN:VTIMEZONE
TZID:Europe/Warsaw
BEGIN:DAYLIGHT
TZOFFSETFROM:+0100
TZOFFSETTO:+0200
TZNAME:CEST
DTSTART:20250330T010000
END:DAYLIGHT
BEGIN:STANDARD
TZOFFSETFROM:+0200
TZOFFSETTO:+0100
TZNAME:CET
DTSTART:20251026T010000
END:STANDARD
END:VTIMEZONE
BEGIN:VEVENT
DTSTART;TZID=Europe/Warsaw:20250123T083000
DTEND;TZID=Europe/Warsaw:20250123T100000
DTSTAMP:20260419T192803
CREATED:20241129T112206Z
LAST-MODIFIED:20250107T104557Z
UID:8785-1737621000-1737626400@fintechpoland.com
SUMMARY:Kawa z fintechem
DESCRIPTION:
URL:https://fintechpoland.com/pl/wydarzenie/kawa-z-fintechem-3/
END:VEVENT
END:VCALENDAR