BEGIN:VCALENDAR
VERSION:2.0
PRODID:-//Fintech Poland - ECPv6.3.4//NONSGML v1.0//EN
CALSCALE:GREGORIAN
METHOD:PUBLISH
X-WR-CALNAME:Fintech Poland
X-ORIGINAL-URL:https://fintechpoland.com
X-WR-CALDESC:Events for Fintech Poland
REFRESH-INTERVAL;VALUE=DURATION:PT1H
X-Robots-Tag:noindex
X-PUBLISHED-TTL:PT1H
BEGIN:VTIMEZONE
TZID:Europe/Warsaw
BEGIN:DAYLIGHT
TZOFFSETFROM:+0100
TZOFFSETTO:+0200
TZNAME:CEST
DTSTART:20250330T010000
END:DAYLIGHT
BEGIN:STANDARD
TZOFFSETFROM:+0200
TZOFFSETTO:+0100
TZNAME:CET
DTSTART:20251026T010000
END:STANDARD
END:VTIMEZONE
BEGIN:VEVENT
DTSTART;TZID=Europe/Warsaw:20250114T110000
DTEND;TZID=Europe/Warsaw:20250114T130000
DTSTAMP:20260419T162454
CREATED:20241230T085548Z
LAST-MODIFIED:20241230T085548Z
UID:9240-1736852400-1736859600@fintechpoland.com
SUMMARY:Warsztaty regulacyjne dotyczące reautoryzacji PSD3
DESCRIPTION:Serdecznie zapraszamy członków Ekosystemu na warsztaty regulacyjne dotyczące reautoryzacji PSD3 oraz jej konsekwencji dla instytucji nadzorowanych\, organizowane w ramach grupy roboczej ds. Pakietu regulacyjnego PSR PSD3 FinTech Poland! \n📅 Termin: 14.01.2025\n🕓 Czas: 11:00 – 13:00\n📍Miejsce: Prosta Office Centre (Prosta 51\, Warszawa)\, siedziba Kontomatik\n➡️ Rejestracja: mail na adres info@fintechpoland.com\n🏢 Forma: hybrydowa \nTo świetna okazja\, by dowiedzieć się więcej o wpływie Dyrektywy PSD3 na polski rynek usług płatniczych oraz zadać pytania ekspertom w tej dziedzinie – mec. Piotrowi Glapińskiemu (M.A.)\, Senior Counsel oraz mec. Marcinowi Waszakowi PhD\, Counsel z kancelarii Dudkowiak Putyra sp.k.\, którzy przybliżą wybrane aspekty związane z planowaną reautoryzacją instytucji płatniczych. W toku wystąpienia prelegenci skupią się nie tylko na literalnym brzmieniu przepisów projektowanej dyrektywy\, lecz zastanowią się nad praktycznym wymiarem reautoryzacji dla branży płatniczej. \nWarsztaty prowadzone będą w formie hybrydowej. Prosimy o potwierdzenie udziału do 7 stycznia 2025 r. ze wskazaniem preferowanej formy uczestnictwa na adres: info@fintechpoland.com. Liczba miejsc stacjonarnych ograniczona. \nW potwierdzeniu uczestnictwa zapraszamy Państwa do pisemnego przedstawiania pytań lub zagadnień do ekspertów. Wybrane kwestie zostaną poruszone w sesji pytań i odpowiedzi. Prelegenci potraktują priorytetowo wątpliwości skierowane drogą mailową. \nNasza sugestia jest podyktowana stopniem skomplikowania materii i szerokim zakresem zmian\, wobec których nasi eksperci udzielą satysfakcjonujących odpowiedzi. \n  \nNie przegap tej okazji! 🔍 Bądź na bieżąco z regulacjami\, które już teraz kształtują przyszłość sektora Fintech w Polsce! \nAgenda: \n\nAktualny stan prac nad Dyrektywą PSD3\nPrzedstawienie generalnych założeń reautoryzacji\, czyli zarys procesu\nOpisanie podmiotów\, których dotyczy reautoryzacja.\nJakie obowiązki w ramach reautoryzacji czekaja instytucje nadzorowane\nPorównanie reautoryzacji w ramach Dyrektyw PSD2 i PSD3\nJakie będą efekty reautoryzacji dla rynku usług płatniczych\nSesja Q&A\nNetworking
URL:https://fintechpoland.com/pl/wydarzenie/warsztaty-regulacyjne-dotyczace-reautoryzacji-psd3/
ATTACH;FMTTYPE=image/png:https://fintechpoland.com/wp-content/uploads/2024/12/2025.01.14-GR-psr-psd3.png
END:VEVENT
END:VCALENDAR