BEGIN:VCALENDAR
VERSION:2.0
PRODID:-//Fintech Poland - ECPv6.3.4//NONSGML v1.0//EN
CALSCALE:GREGORIAN
METHOD:PUBLISH
X-WR-CALNAME:Fintech Poland
X-ORIGINAL-URL:https://fintechpoland.com
X-WR-CALDESC:Events for Fintech Poland
REFRESH-INTERVAL;VALUE=DURATION:PT1H
X-Robots-Tag:noindex
X-PUBLISHED-TTL:PT1H
BEGIN:VTIMEZONE
TZID:Europe/Warsaw
BEGIN:DAYLIGHT
TZOFFSETFROM:+0100
TZOFFSETTO:+0200
TZNAME:CEST
DTSTART:20240331T010000
END:DAYLIGHT
BEGIN:STANDARD
TZOFFSETFROM:+0200
TZOFFSETTO:+0100
TZNAME:CET
DTSTART:20241027T010000
END:STANDARD
END:VTIMEZONE
BEGIN:VEVENT
DTSTART;TZID=Europe/Warsaw:20240618T130000
DTEND;TZID=Europe/Warsaw:20240618T140000
DTSTAMP:20260422T124115
CREATED:20240612T071912Z
LAST-MODIFIED:20240618T075908Z
UID:6452-1718715600-1718719200@fintechpoland.com
SUMMARY:[Webinarium] Projekt EBIS - Innowacyjne finansowanie rozwoju firmy
DESCRIPTION:Serdecznie zapraszamy na webinarium\, które odbędzie się 18 czerwca 2024 r.\, dotyczące projektu European Blockchain Services Infrastructure (EBSI). Podczas spotkania dowiecie się jak dołączyć do inicjatywy i jakie daje ona możliwości \nJako partner projektu gorąco zachęcamy członków naszego Ekosystemu do dołączenia do EBSI. Celem projektu jest budowa paneuropejskiej\, publicznej platformy\, która zwiększy możliwości finasowania europejskich MŚP oraz otwarcie źródeł finasowania\, szczególnie dla innowacji i zielonej transformacji. \nPoznajcie możliwości\, jakie daje EBIS. Dołączcie do nas! \nKonieczna rejestracja – przycisk poniżej.
URL:https://fintechpoland.com/pl/wydarzenie/webinarium-projekt-ebis-innowacyjne-finansowanie-rozwoju-firmy/
ATTACH;FMTTYPE=image/png:https://fintechpoland.com/wp-content/uploads/2024/06/2024.06.18-EBIS-Webinar-1.png
END:VEVENT
END:VCALENDAR