BEGIN:VCALENDAR
VERSION:2.0
PRODID:-//Fintech Poland - ECPv6.3.4//NONSGML v1.0//EN
CALSCALE:GREGORIAN
METHOD:PUBLISH
X-WR-CALNAME:Fintech Poland
X-ORIGINAL-URL:https://fintechpoland.com
X-WR-CALDESC:Events for Fintech Poland
REFRESH-INTERVAL;VALUE=DURATION:PT1H
X-Robots-Tag:noindex
X-PUBLISHED-TTL:PT1H
BEGIN:VTIMEZONE
TZID:Europe/Warsaw
BEGIN:DAYLIGHT
TZOFFSETFROM:+0100
TZOFFSETTO:+0200
TZNAME:CEST
DTSTART:20250330T010000
END:DAYLIGHT
BEGIN:STANDARD
TZOFFSETFROM:+0200
TZOFFSETTO:+0100
TZNAME:CET
DTSTART:20251026T010000
END:STANDARD
END:VTIMEZONE
BEGIN:VEVENT
DTSTART;TZID=Europe/Warsaw:20250121T090000
DTEND;TZID=Europe/Warsaw:20250121T113000
DTSTAMP:20260419T180610
CREATED:20241128T103729Z
LAST-MODIFIED:20241129T104951Z
UID:8747-1737450000-1737459000@fintechpoland.com
SUMMARY:Workshop: Collaborate to fight financial crimes
DESCRIPTION:
URL:https://fintechpoland.com/pl/wydarzenie/workshop-collaborate-to-fight-financial-crimes/
LOCATION:Rotunda PKO Bank Polski\, Marszałkowska 100/102\, Warszawa\, Poland
ATTACH;FMTTYPE=image/png:https://fintechpoland.com/wp-content/uploads/2024/11/2025.01.21-Collaborate-to-fight-financial-crimes.png
END:VEVENT
END:VCALENDAR